BEGIN:VCALENDAR
VERSION:2.0
PRODID:-//Windsor Executives Association - ECPv6.11.2.1//NONSGML v1.0//EN
CALSCALE:GREGORIAN
METHOD:PUBLISH
X-ORIGINAL-URL:https://windsorexecutives.com
X-WR-CALDESC:Events for Windsor Executives Association
REFRESH-INTERVAL;VALUE=DURATION:PT1H
X-Robots-Tag:noindex
X-PUBLISHED-TTL:PT1H
BEGIN:VTIMEZONE
TZID:Asia/Dubai
BEGIN:STANDARD
TZOFFSETFROM:+0400
TZOFFSETTO:+0400
TZNAME:+04
DTSTART:20250101T000000
END:STANDARD
END:VTIMEZONE
BEGIN:VEVENT
DTSTART;TZID=Asia/Dubai:20250313T113000
DTEND;TZID=Asia/Dubai:20250313T133000
DTSTAMP:20260419T232214
CREATED:20250310T062732Z
LAST-MODIFIED:20250310T062732Z
UID:3296-1741865400-1741872600@windsorexecutives.com
SUMMARY:Open House Arbor Memorial
DESCRIPTION:
URL:https://windsorexecutives.com/calendar/open-house-arbor-memorial/
LOCATION:Ontario
END:VEVENT
BEGIN:VEVENT
DTSTART;TZID=Asia/Dubai:20250320T113000
DTEND;TZID=Asia/Dubai:20250320T133000
DTSTAMP:20260419T232214
CREATED:20250310T062840Z
LAST-MODIFIED:20250310T062840Z
UID:3298-1742470200-1742477400@windsorexecutives.com
SUMMARY:Kelcom Telecom and Cloud Services
DESCRIPTION:
URL:https://windsorexecutives.com/calendar/kelcom-telecom-and-cloud-services/
LOCATION:Windsor Yacht Club\, 9000 Riverside Dr E\, Windsor\, Ontario\, N8S 1H1\, Canada
END:VEVENT
BEGIN:VEVENT
DTSTART;TZID=Asia/Dubai:20250327T113000
DTEND;TZID=Asia/Dubai:20250327T133000
DTSTAMP:20260419T232214
CREATED:20250310T062923Z
LAST-MODIFIED:20250310T062923Z
UID:3300-1743075000-1743082200@windsorexecutives.com
SUMMARY:HUB International Craft Talk
DESCRIPTION:
URL:https://windsorexecutives.com/calendar/hub-international-craft-talk/
LOCATION:Windsor Yacht Club\, 9000 Riverside Dr E\, Windsor\, Ontario\, N8S 1H1\, Canada
END:VEVENT
BEGIN:VEVENT
DTSTART;TZID=Asia/Dubai:20250403T113000
DTEND;TZID=Asia/Dubai:20250403T133000
DTSTAMP:20260419T232214
CREATED:20250310T063000Z
LAST-MODIFIED:20250310T063000Z
UID:3302-1743679800-1743687000@windsorexecutives.com
SUMMARY:Aerus Electrolux Craft Talk
DESCRIPTION:
URL:https://windsorexecutives.com/calendar/aerus-electrolux-craft-talk/
LOCATION:Windsor Yacht Club\, 9000 Riverside Dr E\, Windsor\, Ontario\, N8S 1H1\, Canada
END:VEVENT
BEGIN:VEVENT
DTSTART;TZID=Asia/Dubai:20250410T113000
DTEND;TZID=Asia/Dubai:20250410T133000
DTSTAMP:20260419T232214
CREATED:20250310T063035Z
LAST-MODIFIED:20250310T063035Z
UID:3304-1744284600-1744291800@windsorexecutives.com
SUMMARY:Blackburn Media Craft Talk
DESCRIPTION:
URL:https://windsorexecutives.com/calendar/blackburn-media-craft-talk/
LOCATION:Ontario
END:VEVENT
BEGIN:VEVENT
DTSTART;TZID=Asia/Dubai:20250417T113000
DTEND;TZID=Asia/Dubai:20250417T133000
DTSTAMP:20260419T232214
CREATED:20250310T063102Z
LAST-MODIFIED:20250310T063102Z
UID:3306-1744889400-1744896600@windsorexecutives.com
SUMMARY:No meeting Good Friday April 18
DESCRIPTION:
URL:https://windsorexecutives.com/calendar/no-meeting-good-friday-april-18/
LOCATION:Ontario
END:VEVENT
BEGIN:VEVENT
DTSTART;TZID=Asia/Dubai:20250424T113000
DTEND;TZID=Asia/Dubai:20250424T133000
DTSTAMP:20260419T232214
CREATED:20250310T063139Z
LAST-MODIFIED:20250310T063139Z
UID:3308-1745494200-1745501400@windsorexecutives.com
SUMMARY:Rick Martinello Employee Appreciation Day
DESCRIPTION:
URL:https://windsorexecutives.com/calendar/rick-martinello-employee-appreciation-day/
LOCATION:Ontario
END:VEVENT
BEGIN:VEVENT
DTSTART;TZID=Asia/Dubai:20250501T113000
DTEND;TZID=Asia/Dubai:20250501T133000
DTSTAMP:20260419T232214
CREATED:20250310T063210Z
LAST-MODIFIED:20250310T063210Z
UID:3310-1746099000-1746106200@windsorexecutives.com
SUMMARY:Hold Please Communications Craft Talk
DESCRIPTION:
URL:https://windsorexecutives.com/calendar/hold-please-communications-craft-talk/
LOCATION:Windsor Yacht Club\, 9000 Riverside Dr E\, Windsor\, Ontario\, N8S 1H1\, Canada
END:VEVENT
BEGIN:VEVENT
DTSTART;TZID=Asia/Dubai:20250508T113000
DTEND;TZID=Asia/Dubai:20250508T133000
DTSTAMP:20260419T232214
CREATED:20250310T063248Z
LAST-MODIFIED:20250310T063248Z
UID:3312-1746703800-1746711000@windsorexecutives.com
SUMMARY:Advance Business Craft Talk
DESCRIPTION:
URL:https://windsorexecutives.com/calendar/advance-business-craft-talk/
LOCATION:Windsor Yacht Club\, 9000 Riverside Dr E\, Windsor\, Ontario\, N8S 1H1\, Canada
END:VEVENT
BEGIN:VEVENT
DTSTART;TZID=Asia/Dubai:20250522T113000
DTEND;TZID=Asia/Dubai:20250522T133000
DTSTAMP:20260419T232214
CREATED:20250310T063324Z
LAST-MODIFIED:20250310T063324Z
UID:3314-1747913400-1747920600@windsorexecutives.com
SUMMARY:No Meeting Victoria Day May 19
DESCRIPTION:
URL:https://windsorexecutives.com/calendar/no-meeting-victoria-day-may-19/
LOCATION:Ontario
END:VEVENT
BEGIN:VEVENT
DTSTART;TZID=Asia/Dubai:20250529T113000
DTEND;TZID=Asia/Dubai:20250529T133000
DTSTAMP:20260419T232214
CREATED:20250310T063411Z
LAST-MODIFIED:20250310T063411Z
UID:3316-1748518200-1748525400@windsorexecutives.com
SUMMARY:Monarch Office Supply Craft Talk
DESCRIPTION:
URL:https://windsorexecutives.com/calendar/monarch-office-supply-craft-talk/
LOCATION:Windsor Yacht Club\, 9000 Riverside Dr E\, Windsor\, Ontario\, N8S 1H1\, Canada
END:VEVENT
BEGIN:VEVENT
DTSTART;TZID=Asia/Dubai:20250605T113000
DTEND;TZID=Asia/Dubai:20250605T133000
DTSTAMP:20260419T232214
CREATED:20250310T063459Z
LAST-MODIFIED:20250310T063459Z
UID:3318-1749123000-1749130200@windsorexecutives.com
SUMMARY:WEA 2024 Financial Statement
DESCRIPTION:
URL:https://windsorexecutives.com/calendar/wea-2024-financial-statement/
LOCATION:Windsor Yacht Club\, 9000 Riverside Dr E\, Windsor\, Ontario\, N8S 1H1\, Canada
END:VEVENT
BEGIN:VEVENT
DTSTART;TZID=Asia/Dubai:20250612T113000
DTEND;TZID=Asia/Dubai:20250612T133000
DTSTAMP:20260419T232214
CREATED:20250310T063548Z
LAST-MODIFIED:20250310T063548Z
UID:3320-1749727800-1749735000@windsorexecutives.com
SUMMARY:Pareto Business Solutions Craft Talk
DESCRIPTION:
URL:https://windsorexecutives.com/calendar/pareto-business-solutions-craft-talk/
LOCATION:Windsor Yacht Club\, 9000 Riverside Dr E\, Windsor\, Ontario\, N8S 1H1\, Canada
END:VEVENT
BEGIN:VEVENT
DTSTART;TZID=Asia/Dubai:20250619T113000
DTEND;TZID=Asia/Dubai:20250619T133000
DTSTAMP:20260419T232214
CREATED:20250310T063629Z
LAST-MODIFIED:20250310T063629Z
UID:3322-1750332600-1750339800@windsorexecutives.com
SUMMARY:Windsor Business Magazine Craft Talk
DESCRIPTION:
URL:https://windsorexecutives.com/calendar/windsor-business-magazine-craft-talk/
LOCATION:Windsor Yacht Club\, 9000 Riverside Dr E\, Windsor\, Ontario\, N8S 1H1\, Canada
END:VEVENT
BEGIN:VEVENT
DTSTART;TZID=Asia/Dubai:20250626T113000
DTEND;TZID=Asia/Dubai:20250626T133000
DTSTAMP:20260419T232214
CREATED:20250310T063701Z
LAST-MODIFIED:20250310T063701Z
UID:3324-1750937400-1750944600@windsorexecutives.com
SUMMARY:Summit Floor and Wall Craft Talk
DESCRIPTION:
URL:https://windsorexecutives.com/calendar/summit-floor-and-wall-craft-talk/
LOCATION:Windsor Yacht Club\, 9000 Riverside Dr E\, Windsor\, Ontario\, N8S 1H1\, Canada
END:VEVENT
BEGIN:VEVENT
DTSTART;TZID=Asia/Dubai:20250703T113000
DTEND;TZID=Asia/Dubai:20250703T133000
DTSTAMP:20260419T232214
CREATED:20250310T063738Z
LAST-MODIFIED:20250310T063738Z
UID:3326-1751542200-1751549400@windsorexecutives.com
SUMMARY:No Meeting Canada Day July 1
DESCRIPTION:
URL:https://windsorexecutives.com/calendar/no-meeting-canada-day-july-1/
LOCATION:Windsor Yacht Club\, 9000 Riverside Dr E\, Windsor\, Ontario\, N8S 1H1\, Canada
END:VEVENT
BEGIN:VEVENT
DTSTART;TZID=Asia/Dubai:20250710T113000
DTEND;TZID=Asia/Dubai:20250710T133000
DTSTAMP:20260419T232214
CREATED:20250310T063934Z
LAST-MODIFIED:20250310T063934Z
UID:3328-1752147000-1752154200@windsorexecutives.com
SUMMARY:The Mosquito Guard Craft Talk
DESCRIPTION:
URL:https://windsorexecutives.com/calendar/the-mosquito-guard-craft-talk/
LOCATION:Windsor Yacht Club\, 9000 Riverside Dr E\, Windsor\, Ontario\, N8S 1H1\, Canada
END:VEVENT
BEGIN:VEVENT
DTSTART;TZID=Asia/Dubai:20250717T113000
DTEND;TZID=Asia/Dubai:20250717T133000
DTSTAMP:20260419T232214
CREATED:20250310T064236Z
LAST-MODIFIED:20250310T064236Z
UID:3330-1752751800-1752759000@windsorexecutives.com
SUMMARY:Open House Guaranteed Collision
DESCRIPTION:
URL:https://windsorexecutives.com/calendar/open-house-guaranteed-collision/
LOCATION:Guaranteed Collision Centres\, 1596 University Ave W\, Windsor\, Ontario\, N9B1B9\, Canada
END:VEVENT
BEGIN:VEVENT
DTSTART;TZID=Asia/Dubai:20250731T113000
DTEND;TZID=Asia/Dubai:20250731T133000
DTSTAMP:20260419T232214
CREATED:20250310T064415Z
LAST-MODIFIED:20250310T064415Z
UID:3334-1753961400-1753968600@windsorexecutives.com
SUMMARY:Moir Crane Service Craft Talk
DESCRIPTION:
URL:https://windsorexecutives.com/calendar/moir-crane-service-craft-talk/
LOCATION:Windsor Yacht Club\, 9000 Riverside Dr E\, Windsor\, Ontario\, N8S 1H1\, Canada
END:VEVENT
BEGIN:VEVENT
DTSTART;TZID=Asia/Dubai:20250807T080000
DTEND;TZID=Asia/Dubai:20250807T170000
DTSTAMP:20260419T232214
CREATED:20250310T064502Z
LAST-MODIFIED:20250310T064502Z
UID:3336-1754553600-1754586000@windsorexecutives.com
SUMMARY:No Meeting Civic Holiday Aug. 4
DESCRIPTION:
URL:https://windsorexecutives.com/calendar/no-meeting-civic-holiday-aug-4/
LOCATION:Ontario
END:VEVENT
BEGIN:VEVENT
DTSTART;TZID=Asia/Dubai:20250814T113000
DTEND;TZID=Asia/Dubai:20250814T133000
DTSTAMP:20260419T232214
CREATED:20250310T064542Z
LAST-MODIFIED:20250310T064542Z
UID:3338-1755171000-1755178200@windsorexecutives.com
SUMMARY:Made To Shade Craft Talk
DESCRIPTION:
URL:https://windsorexecutives.com/calendar/made-to-shade-craft-talk/
LOCATION:Windsor Yacht Club\, 9000 Riverside Dr E\, Windsor\, Ontario\, N8S 1H1\, Canada
END:VEVENT
END:VCALENDAR