BEGIN:VCALENDAR
VERSION:2.0
PRODID:-//Windsor Executives Association - ECPv6.11.2.1//NONSGML v1.0//EN
CALSCALE:GREGORIAN
METHOD:PUBLISH
X-ORIGINAL-URL:https://windsorexecutives.com
X-WR-CALDESC:Events for Windsor Executives Association
REFRESH-INTERVAL;VALUE=DURATION:PT1H
X-Robots-Tag:noindex
X-PUBLISHED-TTL:PT1H
BEGIN:VTIMEZONE
TZID:Asia/Dubai
BEGIN:STANDARD
TZOFFSETFROM:+0400
TZOFFSETTO:+0400
TZNAME:+04
DTSTART:20190101T000000
END:STANDARD
END:VTIMEZONE
BEGIN:VEVENT
DTSTART;VALUE=DATE:20191128
DTEND;VALUE=DATE:20191129
DTSTAMP:20260423T042800
CREATED:20191112T004605Z
LAST-MODIFIED:20191112T004717Z
UID:2905-1574899200-1574985599@windsorexecutives.com
SUMMARY:No meeting U. S. Thanksgiving
DESCRIPTION:
URL:https://windsorexecutives.com/calendar/no-meeting-u-s-thanksgiving/
LOCATION:Ontario
END:VEVENT
END:VCALENDAR